BEGIN:VCALENDAR
VERSION:2.0
PRODID:-//Lighthouse Speech Pathology Centre - ECPv5.3.2.1//NONSGML v1.0//EN
CALSCALE:GREGORIAN
METHOD:PUBLISH
X-WR-CALNAME:Lighthouse Speech Pathology Centre
X-ORIGINAL-URL:https://www.speechcentre.com.au
X-WR-CALDESC:Events for Lighthouse Speech Pathology Centre
BEGIN:VTIMEZONE
TZID:Australia/Sydney
BEGIN:STANDARD
TZOFFSETFROM:+1100
TZOFFSETTO:+1000
TZNAME:AEST
DTSTART:20210403T160000
END:STANDARD
BEGIN:DAYLIGHT
TZOFFSETFROM:+1000
TZOFFSETTO:+1100
TZNAME:AEDT
DTSTART:20211002T160000
END:DAYLIGHT
END:VTIMEZONE
BEGIN:VEVENT
DTSTART;TZID=Australia/Sydney:20210312T130000
DTEND;TZID=Australia/Sydney:20210313T131500
DTSTAMP:20210227T021932
CREATED:20210120T105809Z
LAST-MODIFIED:20210120T105809Z
UID:1513-1615554000-1615641300@www.speechcentre.com.au
SUMMARY:Canberra Weekend Clinic
DESCRIPTION:
URL:https://www.speechcentre.com.au/event/canberra-weekend-clinic-50/
LOCATION:Gungahlin Family Healthcare\, 2 Franz Bormann Close\, Gungahlin\, ACT\, 2912\, Australia
CATEGORIES:Canberra Clinics
END:VEVENT
BEGIN:VEVENT
DTSTART;TZID=Australia/Sydney:20210423T130000
DTEND;TZID=Australia/Sydney:20210424T131500
DTSTAMP:20210227T021932
CREATED:20210120T105904Z
LAST-MODIFIED:20210120T105904Z
UID:1515-1619182800-1619270100@www.speechcentre.com.au
SUMMARY:Canberra Weekend Clinic
DESCRIPTION:
URL:https://www.speechcentre.com.au/event/canberra-weekend-clinic-51/
LOCATION:Gungahlin Family Healthcare\, 2 Franz Bormann Close\, Gungahlin\, ACT\, 2912\, Australia
CATEGORIES:Canberra Clinics
END:VEVENT
BEGIN:VEVENT
DTSTART;TZID=Australia/Sydney:20210521T130000
DTEND;TZID=Australia/Sydney:20210522T131500
DTSTAMP:20210227T021932
CREATED:20210120T105958Z
LAST-MODIFIED:20210120T105958Z
UID:1517-1621602000-1621689300@www.speechcentre.com.au
SUMMARY:Canberra Weekend Clinic
DESCRIPTION:
URL:https://www.speechcentre.com.au/event/canberra-weekend-clinic-52/
LOCATION:Gungahlin Family Healthcare\, 2 Franz Bormann Close\, Gungahlin\, ACT\, 2912\, Australia
CATEGORIES:Canberra Clinics
END:VEVENT
BEGIN:VEVENT
DTSTART;TZID=Australia/Sydney:20210618T130000
DTEND;TZID=Australia/Sydney:20210619T131500
DTSTAMP:20210227T021932
CREATED:20210120T110051Z
LAST-MODIFIED:20210120T110051Z
UID:1519-1624021200-1624108500@www.speechcentre.com.au
SUMMARY:Canberra Weekend Clinic
DESCRIPTION:
URL:https://www.speechcentre.com.au/event/canberra-weekend-clinic-53/
LOCATION:Gungahlin Family Healthcare\, 2 Franz Bormann Close\, Gungahlin\, ACT\, 2912\, Australia
CATEGORIES:Canberra Clinics
END:VEVENT
BEGIN:VEVENT
DTSTART;TZID=Australia/Sydney:20210723T130000
DTEND;TZID=Australia/Sydney:20210724T131500
DTSTAMP:20210227T021932
CREATED:20210120T110132Z
LAST-MODIFIED:20210120T110132Z
UID:1521-1627045200-1627132500@www.speechcentre.com.au
SUMMARY:Canberra Weekend Clinic
DESCRIPTION:
URL:https://www.speechcentre.com.au/event/canberra-weekend-clinic-54/
LOCATION:Gungahlin Family Healthcare\, 2 Franz Bormann Close\, Gungahlin\, ACT\, 2912\, Australia
CATEGORIES:Canberra Clinics
END:VEVENT
BEGIN:VEVENT
DTSTART;TZID=Australia/Sydney:20210820T130000
DTEND;TZID=Australia/Sydney:20210821T131500
DTSTAMP:20210227T021932
CREATED:20210120T110222Z
LAST-MODIFIED:20210120T110222Z
UID:1523-1629464400-1629551700@www.speechcentre.com.au
SUMMARY:Canberra Weekend Clinic
DESCRIPTION:
URL:https://www.speechcentre.com.au/event/canberra-weekend-clinic-55/
LOCATION:Gungahlin Family Healthcare\, 2 Franz Bormann Close\, Gungahlin\, ACT\, 2912\, Australia
CATEGORIES:Canberra Clinics
END:VEVENT
BEGIN:VEVENT
DTSTART;TZID=Australia/Sydney:20210917T130000
DTEND;TZID=Australia/Sydney:20210918T131500
DTSTAMP:20210227T021932
CREATED:20210120T110306Z
LAST-MODIFIED:20210120T110306Z
UID:1525-1631883600-1631970900@www.speechcentre.com.au
SUMMARY:Canberra Weekend Clinic
DESCRIPTION:
URL:https://www.speechcentre.com.au/event/canberra-weekend-clinic-56/
LOCATION:Gungahlin Family Healthcare\, 2 Franz Bormann Close\, Gungahlin\, ACT\, 2912\, Australia
CATEGORIES:Canberra Clinics
END:VEVENT
BEGIN:VEVENT
DTSTART;TZID=Australia/Sydney:20211015T130000
DTEND;TZID=Australia/Sydney:20211016T131500
DTSTAMP:20210227T021932
CREATED:20210120T110356Z
LAST-MODIFIED:20210120T110356Z
UID:1527-1634302800-1634390100@www.speechcentre.com.au
SUMMARY:Canberra Weekend Clinic
DESCRIPTION:
URL:https://www.speechcentre.com.au/event/canberra-weekend-clinic-57/
LOCATION:Gungahlin Family Healthcare\, 2 Franz Bormann Close\, Gungahlin\, ACT\, 2912\, Australia
CATEGORIES:Canberra Clinics
END:VEVENT
BEGIN:VEVENT
DTSTART;TZID=Australia/Sydney:20211112T130000
DTEND;TZID=Australia/Sydney:20211113T131500
DTSTAMP:20210227T021932
CREATED:20210120T110442Z
LAST-MODIFIED:20210120T110442Z
UID:1529-1636722000-1636809300@www.speechcentre.com.au
SUMMARY:Canberra Weekend Clinic
DESCRIPTION:
URL:https://www.speechcentre.com.au/event/canberra-weekend-clinic-58/
LOCATION:Gungahlin Family Healthcare\, 2 Franz Bormann Close\, Gungahlin\, ACT\, 2912\, Australia
CATEGORIES:Canberra Clinics
END:VEVENT
BEGIN:VEVENT
DTSTART;TZID=Australia/Sydney:20211210T130000
DTEND;TZID=Australia/Sydney:20211211T131500
DTSTAMP:20210227T021932
CREATED:20210120T110540Z
LAST-MODIFIED:20210120T110540Z
UID:1531-1639141200-1639228500@www.speechcentre.com.au
SUMMARY:Canberra Weekend Clinic
DESCRIPTION:
URL:https://www.speechcentre.com.au/event/canberra-weekend-clinic-59/
LOCATION:Gungahlin Family Healthcare\, 2 Franz Bormann Close\, Gungahlin\, ACT\, 2912\, Australia
CATEGORIES:Canberra Clinics
END:VEVENT
END:VCALENDAR