BEGIN:VCALENDAR
VERSION:2.0
PRODID:-//Lighthouse Speech Pathology Centre - ECPv5.3.2.1//NONSGML v1.0//EN
CALSCALE:GREGORIAN
METHOD:PUBLISH
X-WR-CALNAME:Lighthouse Speech Pathology Centre
X-ORIGINAL-URL:https://www.speechcentre.com.au
X-WR-CALDESC:Events for Lighthouse Speech Pathology Centre
BEGIN:VTIMEZONE
TZID:Australia/Sydney
BEGIN:STANDARD
TZOFFSETFROM:+1100
TZOFFSETTO:+1000
TZNAME:AEST
DTSTART:20200404T160000
END:STANDARD
BEGIN:DAYLIGHT
TZOFFSETFROM:+1000
TZOFFSETTO:+1100
TZNAME:AEDT
DTSTART:20201003T160000
END:DAYLIGHT
END:VTIMEZONE
BEGIN:VEVENT
DTSTART;TZID=Australia/Sydney:20200724T130000
DTEND;TZID=Australia/Sydney:20200725T131500
DTSTAMP:20210301T010950
CREATED:20191224T013925Z
LAST-MODIFIED:20191224T024140Z
UID:1384-1595595600-1595682900@www.speechcentre.com.au
SUMMARY:Canberra Weekend Clinic
DESCRIPTION:
URL:https://www.speechcentre.com.au/event/canberra-weekend-clinic-42/
LOCATION:Gungahlin Family Healthcare\, 2 Franz Bormann Close\, Gungahlin\, ACT\, 2912\, Australia
CATEGORIES:Canberra Clinics
END:VEVENT
END:VCALENDAR